BEGIN:VCALENDAR
VERSION:2.0
PRODID:-//Squarespace Inc/Squarespace 6//v6//EN
BEGIN:VEVENT
UID:51f1da0ee4b0d06478a78a35@squarespace.com
DTSTAMP:20130401T174351Z
DTSTART:20130415T180000Z
DTEND:20130415T190000Z
SUMMARY:Event One
END:VEVENT
END:VCALENDAR
